BEGIN:VCALENDAR
VERSION:2.0
PRODID:-//OmniMagnetCalendar//EN
BEGIN:VEVENT
DTSTAMP:20190625T195740Z
STATUS:CONFIRMED
UID:hcbeijing.clubs.harvard.edu104
DTSTART:20140302T110000Z
DTEND:20140302T140000Z
LOCATION:
SUMMARY:2014 Annual Appreciation Dinner of Harvard 哈佛北京校友会2014年年度答谢晚宴
DESCRIPTION:
BEGIN:VALARM
TRIGGER:-PT15M
ACTION:DISPLAY
END:VALARM
TRANSP:OPAQUE
END:VEVENT
END:VCALENDAR
