BEGIN:VCALENDAR
VERSION:2.0
PRODID:-//OmniMagnetCalendar//EN
BEGIN:VEVENT
DTSTAMP:20190625T195740Z
STATUS:CONFIRMED
UID:hcbeijing.clubs.harvard.edu105
DTSTART:20140118T090000Z
DTEND:20140118T110000Z
LOCATION:
SUMMARY:Harvard Faculty of Arts and Sciences: Perspectives on Leadership 哈佛大学文理学院论坛
DESCRIPTION:
BEGIN:VALARM
TRIGGER:-PT15M
ACTION:DISPLAY
END:VALARM
TRANSP:OPAQUE
END:VEVENT
END:VCALENDAR
