BEGIN:VCALENDAR
VERSION:2.0
PRODID:-//OmniMagnetCalendar//EN
BEGIN:VEVENT
DTSTAMP:20190625T195740Z
STATUS:CONFIRMED
UID:hcbeijing.clubs.harvard.edu107
DTSTART:20131222T090000Z
DTEND:19691231T090000Z
LOCATION:
SUMMARY:Harvard Tea Talk: Chinese Art Market 哈佛校友茶话会：中国艺术品行业现况和趋势
DESCRIPTION:
BEGIN:VALARM
TRIGGER:-PT15M
ACTION:DISPLAY
END:VALARM
TRANSP:OPAQUE
END:VEVENT
END:VCALENDAR
