BEGIN:VCALENDAR
VERSION:2.0
PRODID:-//OmniMagnetCalendar//EN
BEGIN:VEVENT
DTSTAMP:20190625T195740Z
STATUS:CONFIRMED
UID:hcbeijing.clubs.harvard.edu108
DTSTART:20131216T110000Z
DTEND:20131216T130000Z
LOCATION:
SUMMARY:Welcome Harvard Provost Alan M. Garber to Asia 哈佛大学教务长Alan M. Garber到访
DESCRIPTION:
BEGIN:VALARM
TRIGGER:-PT15M
ACTION:DISPLAY
END:VALARM
TRANSP:OPAQUE
END:VEVENT
END:VCALENDAR
