BEGIN:VCALENDAR
VERSION:2.0
PRODID:-//OmniMagnetCalendar//EN
BEGIN:VEVENT
DTSTAMP:20190625T195740Z
STATUS:CONFIRMED
UID:hcbeijing.clubs.harvard.edu110
DTSTART:20130913T170000Z
DTEND:19691231T090000Z
LOCATION:
SUMMARY:Harvard Alumni Tea Talks: UCCA, 798 and Contemporary Art in China 哈佛校友茶话会：UCCA、798
DESCRIPTION:
BEGIN:VALARM
TRIGGER:-PT15M
ACTION:DISPLAY
END:VALARM
TRANSP:OPAQUE
END:VEVENT
END:VCALENDAR
