BEGIN:VCALENDAR
VERSION:2.0
PRODID:-//OmniMagnetCalendar//EN
BEGIN:VEVENT
DTSTAMP:20190625T195740Z
STATUS:CONFIRMED
UID:hcbeijing.clubs.harvard.edu114
DTSTART:20130602T090000Z
DTEND:20130602T110000Z
LOCATION:
SUMMARY:Harvard Alumni Tea Talks 哈佛校友茶话会：移动科技移动科技如何颠覆互联网
DESCRIPTION:
BEGIN:VALARM
TRIGGER:-PT15M
ACTION:DISPLAY
END:VALARM
TRANSP:OPAQUE
END:VEVENT
END:VCALENDAR
