BEGIN:VCALENDAR
VERSION:2.0
PRODID:-//OmniMagnetCalendar//EN
BEGIN:VEVENT
DTSTAMP:20190625T195740Z
STATUS:CONFIRMED
UID:hcbeijing.clubs.harvard.edu132
DTSTART:20140801T120000Z
DTEND:20140801T150000Z
LOCATION:
SUMMARY:Harvard & UChicago Summer Mixer | August 1, 2014 哈佛与芝加哥校友联谊
DESCRIPTION:
BEGIN:VALARM
TRIGGER:-PT15M
ACTION:DISPLAY
END:VALARM
TRANSP:OPAQUE
END:VEVENT
END:VCALENDAR
