BEGIN:VCALENDAR
VERSION:2.0
PRODID:-//OmniMagnetCalendar//EN
BEGIN:VEVENT
DTSTAMP:20190625T195740Z
STATUS:CONFIRMED
UID:hcbeijing.clubs.harvard.edu146
DTSTART:20141026T070000Z
DTEND:20141026T090000Z
LOCATION:
SUMMARY:[10/26讲座] 雾霾、气候变化与中国能源困局
DESCRIPTION:哈佛大学肯尼迪学院中国校友会邀请到刘恒伟博士主持这次讲座。
BEGIN:VALARM
TRIGGER:-PT15M
ACTION:DISPLAY
END:VALARM
TRANSP:OPAQUE
END:VEVENT
END:VCALENDAR
