BEGIN:VCALENDAR
VERSION:2.0
PRODID:-//OmniMagnetCalendar//EN
BEGIN:VEVENT
DTSTAMP:20190625T195740Z
STATUS:CONFIRMED
UID:hcbeijing.clubs.harvard.edu152
DTSTART:20141213T140000Z
DTEND:20141213T170000Z
LOCATION:
SUMMARY:[12/13 Saturday] Ivy League Alumni Club Christmas Party at 8mm | 常青藤联盟圣诞晚会
DESCRIPTION:
BEGIN:VALARM
TRIGGER:-PT15M
ACTION:DISPLAY
END:VALARM
TRANSP:OPAQUE
END:VEVENT
END:VCALENDAR
