BEGIN:VCALENDAR
VERSION:2.0
PRODID:-//OmniMagnetCalendar//EN
BEGIN:VEVENT
DTSTAMP:20190625T195740Z
STATUS:CONFIRMED
UID:hcbeijing.clubs.harvard.edu159
DTSTART:20150508T110000Z
DTEND:20150508T130000Z
LOCATION:
SUMMARY:[5/8 Friday] New Students Welcome Happy Hour
DESCRIPTION:
BEGIN:VALARM
TRIGGER:-PT15M
ACTION:DISPLAY
END:VALARM
TRANSP:OPAQUE
END:VEVENT
END:VCALENDAR
