BEGIN:VCALENDAR
VERSION:2.0
PRODID:-//OmniMagnetCalendar//EN
BEGIN:VEVENT
DTSTAMP:20190625T195740Z
STATUS:CONFIRMED
UID:hcbeijing.clubs.harvard.edu168
DTSTART:20151031T053000Z
DTEND:20151031T110000Z
LOCATION:
SUMMARY:[11/3] Global Innovation and Intellectual Property Symposium
DESCRIPTION:
BEGIN:VALARM
TRIGGER:-PT15M
ACTION:DISPLAY
END:VALARM
TRANSP:OPAQUE
END:VEVENT
END:VCALENDAR
