BEGIN:VCALENDAR
VERSION:2.0
PRODID:-//OmniMagnetCalendar//EN
BEGIN:VEVENT
DTSTAMP:20190625T195740Z
STATUS:CONFIRMED
UID:hcbeijing.clubs.harvard.edu171
DTSTART:20160228T100000Z
DTEND:20160228T140000Z
LOCATION:
SUMMARY:2/28: 2016 HCB Annual Appreciation Party
DESCRIPTION:
BEGIN:VALARM
TRIGGER:-PT15M
ACTION:DISPLAY
END:VALARM
TRANSP:OPAQUE
END:VEVENT
END:VCALENDAR
