BEGIN:VCALENDAR
VERSION:2.0
PRODID:-//OmniMagnetCalendar//EN
BEGIN:VEVENT
DTSTAMP:20190625T195740Z
STATUS:CONFIRMED
UID:hcbeijing.clubs.harvard.edu178
DTSTART:20160518T120000Z
DTEND:20160518T133000Z
LOCATION:
SUMMARY:[05/18 活动回顾] 使徒子：中国市场和创意之源
DESCRIPTION:
BEGIN:VALARM
TRIGGER:-PT15M
ACTION:DISPLAY
END:VALARM
TRANSP:OPAQUE
END:VEVENT
END:VCALENDAR
